BEGIN:VCALENDAR
VERSION:2.0
CALSCALE:GREGORIAN
METHOD:PUBLISH
X-WR-TIMEZONE:Australia/Sydney
BEGIN:VTIMEZONE
TZID:Australia/Sydney
BEGIN:STANDARD
TZNAME:AEST
DTSTART:19700101T000000
TZOFFSETFROM:+1100
TZOFFSETTO:+1000
END:STANDARD
END:VTIMEZONE
BEGIN:VEVENT
DTSTART;TZID=Australia/Sydney:20211117T090000
DTEND;TZID=Australia/Sydney:20211117T093000
DTSTAMP:20260420T215303
UID:1402
SUMMARY:Pre-Kindy Fun
DESCRIPTION:




Students that are enrolled in Kindergarten 2022 at EPS are invited to come along with their parents and join in the fun of our Pre-Kindy Fun program. There will be 3 sessions run from 9am-9.30am on the following dates:Wednesday 27 OctoberWednesday 3 NovemberWednesday 17 November


SEQUENCE:0
STATUS:CONFIRMED
TRANSP:OPAQUE
END:VEVENT
END:VCALENDAR