BEGIN:VCALENDAR
VERSION:2.0
CALSCALE:GREGORIAN
METHOD:PUBLISH
X-WR-TIMEZONE:Australia/Sydney
BEGIN:VTIMEZONE
TZID:Australia/Sydney
BEGIN:STANDARD
TZNAME:AEST
DTSTART:19700101T000000
TZOFFSETFROM:+1100
TZOFFSETTO:+1000
END:STANDARD
END:VTIMEZONE
BEGIN:VEVENT
DTSTART;TZID=Australia/Sydney:20210219T151500
DTEND;TZID=Australia/Sydney:20210219T170000
DTSTAMP:20260425T000936
UID:1304
SUMMARY:Welcome Back to School Picnic
DESCRIPTION:




All parents, carers and students are welcome to join us at the Nature Play Area this afternoon to share news of the first three weeks back at school. Bring a picnic or buy a sausage sizzle from the P&amp;amp;C. Drinks and icy poles will also be available for purchase.


SEQUENCE:0
STATUS:CONFIRMED
TRANSP:OPAQUE
END:VEVENT
END:VCALENDAR