BEGIN:VCALENDAR
VERSION:2.0
CALSCALE:GREGORIAN
METHOD:PUBLISH
X-WR-TIMEZONE:Australia/Sydney
BEGIN:VTIMEZONE
TZID:Australia/Sydney
BEGIN:STANDARD
TZNAME:AEST
DTSTART:19700101T000000
TZOFFSETFROM:+1100
TZOFFSETTO:+1000
END:STANDARD
END:VTIMEZONE
BEGIN:VEVENT
DTSTART;TZID=Australia/Sydney:20210326T084500
DTEND;TZID=Australia/Sydney:20210326T093000
DTSTAMP:20260425T020332
UID:1288
SUMMARY:R16 Assembly
DESCRIPTION:




Todays assembly will be hosted by the students from Room 16. The Y2 Aussie of the Month will be presented at todays assembly.


SEQUENCE:0
STATUS:CONFIRMED
TRANSP:OPAQUE
END:VEVENT
END:VCALENDAR