BEGIN:VCALENDAR
VERSION:2.0
CALSCALE:GREGORIAN
METHOD:PUBLISH
X-WR-TIMEZONE:Australia/Sydney
BEGIN:VTIMEZONE
TZID:Australia/Sydney
BEGIN:STANDARD
TZNAME:AEST
DTSTART:19700101T000000
TZOFFSETFROM:+1100
TZOFFSETTO:+1000
END:STANDARD
END:VTIMEZONE
BEGIN:VEVENT
DTSTART;TZID=Australia/Sydney:20210914T090000
DTEND;TZID=Australia/Sydney:20210914T130000
DTSTAMP:20260420T194737
UID:1284
SUMMARY:Interschool Jumps &amp; Throws
DESCRIPTION:




Selected students from Years 3-6 will compete in the Interschool jumps and throws which&amp;nbsp;will be held today at Edgewater PS.


SEQUENCE:0
STATUS:CONFIRMED
TRANSP:OPAQUE
END:VEVENT
END:VCALENDAR