BEGIN:VCALENDAR
VERSION:2.0
CALSCALE:GREGORIAN
METHOD:PUBLISH
X-WR-TIMEZONE:Australia/Sydney
BEGIN:VTIMEZONE
TZID:Australia/Sydney
BEGIN:STANDARD
TZNAME:AEST
END:STANDARD
END:VTIMEZONE
BEGIN:VEVENT
DTSTART;TZID=Australia/Sydney:20210211T084500
DTEND;TZID=Australia/Sydney:20210211T130000
RRULE:FREQ=WEEKLY;UNTIL=20210318T130000;BYDAY=TH
DTSTAMP:20260420T214856
UID:1278
SUMMARY:Dance Lessons
DESCRIPTION:




Students from PP-Y6 will participate in dance lessons which form an integral component of the Australian Curriculum.


SEQUENCE:0
STATUS:CONFIRMED
TRANSP:OPAQUE
END:VEVENT
END:VCALENDAR