BEGIN:VCALENDAR
VERSION:2.0
CALSCALE:GREGORIAN
METHOD:PUBLISH
X-WR-TIMEZONE:Australia/Sydney
BEGIN:VTIMEZONE
TZID:Australia/Sydney
BEGIN:STANDARD
TZNAME:AEST
DTSTART:19700101T000000
TZOFFSETFROM:+1100
TZOFFSETTO:+1000
END:STANDARD
END:VTIMEZONE
BEGIN:VEVENT
DTSTART;TZID=Australia/Sydney:20201125T090000
DTEND;TZID=Australia/Sydney:20201125T150000
DTSTAMP:20260425T003456
UID:1251
SUMMARY:Kindergarten Orientation
DESCRIPTION:




Kindergarten students 2021 are invited to an Orientation today.Kindy Blue 9am-10amKindy Red 2pm - 3pm


SEQUENCE:0
STATUS:CONFIRMED
TRANSP:OPAQUE
END:VEVENT
END:VCALENDAR