BEGIN:VCALENDAR
VERSION:2.0
CALSCALE:GREGORIAN
METHOD:PUBLISH
X-WR-TIMEZONE:Australia/Sydney
BEGIN:VTIMEZONE
TZID:Australia/Sydney
BEGIN:STANDARD
TZNAME:AEST
END:STANDARD
END:VTIMEZONE
BEGIN:VEVENT
DTSTART;TZID=Australia/Sydney:20210309
DTEND;TZID=Australia/Sydney:20210309
RRULE:FREQ=DAILY;UNTIL=20210312T000000
DTSTAMP:20260425T000944
UID:1233
SUMMARY:Year 6 Camp
DESCRIPTION:




All Year 6 students will participate in the annual camp at Nanga Bush Camp in Dwellingup.


SEQUENCE:0
STATUS:CONFIRMED
TRANSP:OPAQUE
END:VEVENT
END:VCALENDAR