BEGIN:VCALENDAR
VERSION:2.0
CALSCALE:GREGORIAN
METHOD:PUBLISH
X-WR-TIMEZONE:Australia/Sydney
BEGIN:VTIMEZONE
TZID:Australia/Sydney
BEGIN:STANDARD
TZNAME:AEST
END:STANDARD
END:VTIMEZONE
BEGIN:VEVENT
DTSTART;TZID=Australia/Sydney:20200722T090000
DTEND;TZID=Australia/Sydney:20200722T093000
RRULE:FREQ=WEEKLY;UNTIL=20200916T093000;BYDAY=WE
DTSTAMP:20260421T221017
UID:1171
SUMMARY:Rhymetime/Storytime - CANCELLED
DESCRIPTION:




Pre-Kindergarten program run by our Kindergarten Teachers for age 0-4 children located in Room 14. Please use the car park at the rear of the school.


SEQUENCE:0
STATUS:CONFIRMED
TRANSP:OPAQUE
END:VEVENT
END:VCALENDAR