BEGIN:VCALENDAR
VERSION:2.0
CALSCALE:GREGORIAN
METHOD:PUBLISH
X-WR-TIMEZONE:Australia/Sydney
BEGIN:VTIMEZONE
TZID:Australia/Sydney
BEGIN:STANDARD
TZNAME:AEST
DTSTART:19700101T000000
TZOFFSETFROM:+1100
TZOFFSETTO:+1000
END:STANDARD
END:VTIMEZONE
BEGIN:VEVENT
DTSTART;TZID=Australia/Sydney:20200306T084500
DTEND;TZID=Australia/Sydney:20200306T093000
DTSTAMP:20260420T201131
UID:1134
SUMMARY:Assembly - Room 1
DESCRIPTION:




Todays assembly will be hosted by the students from Room 1. The&amp;nbsp;Year 4&amp;nbsp;Aussie of The Month will be presented at this mornings assembly.


SEQUENCE:0
STATUS:CONFIRMED
TRANSP:OPAQUE
END:VEVENT
END:VCALENDAR